BEGIN:VCALENDAR
VERSION:2.0
PRODID:-//ChamberMaster//Event Calendar 2.0//EN
METHOD:PUBLISH
X-PUBLISHED-TTL:P3D
REFRESH-INTERVAL:P3D
CALSCALE:GREGORIAN
BEGIN:VEVENT
DTSTART:20250517T190000Z
DTEND:20250517T230000Z
X-MICROSOFT-CDO-ALLDAYEVENT:FALSE
SUMMARY:208Massage&Spa Grand Opening
DESCRIPTION:208 Massage & Spa is excited to announce the grand opening of our brand new location on Appleway. As a locally owned and operated business started right here in Coeur d'Alene\, we're thrilled to be growing and expanding into a beautiful new space designed to better serve our amazing community. We invite you to come celebrate with us and check out our upgraded facility\, including several new services we can't wait to share with you.\n\nTo make the day even more special\, the first 50 guests will receive a free goodie bag filled with samples\, exclusive discounts\, and a few surprises. Guests will also have the chance to enter our raffle and win up to $500 in prizes. We'll have multiple local vendors on-site\, as well as refreshments for you to enjoy while you explore everything our new location has to offer.\n\nCome stop by\, support local\, and celebrate this exciting new chapter with us. We can't wait to welcome you to our new home on Appleway!
X-ALT-DESC;FMTTYPE=text/html:<p>208 Massage &amp\; Spa is excited to announce the grand opening of our brand new location on Appleway. As a locally owned and operated business started right here in Coeur d&rsquo\;Alene\, we&rsquo\;re thrilled to be growing and expanding into a beautiful new space designed to better serve our amazing community. We invite you to come celebrate with us and check out our upgraded facility\, including several new services we can&rsquo\;t wait to share with you.</p>\n\n<p>To make the day even more special\, the first 50 guests will receive a free goodie bag filled with samples\, exclusive discounts\, and a few surprises. Guests will also have the chance to enter our raffle and win up to $500 in prizes. We&rsquo\;ll have multiple local vendors on-site\, as well as refreshments for you to enjoy while you explore everything our new location has to offer.</p>\n\n<p>Come stop by\, support local\, and celebrate this exciting new chapter with us. We can&rsquo\;t wait to welcome you to our new home on Appleway!</p>\n
LOCATION:714 W Appleway Unit 102 Coeur D Alene\, ID 83814
UID:e.843.32249
SEQUENCE:3
DTSTAMP:20260424T005359Z
URL:http://devcdachamber.chambermaster.com/events/details/208massage-spa-grand-opening-32249
END:VEVENT

END:VCALENDAR
