BEGIN:VCALENDAR
VERSION:2.0
PRODID:-//ChamberMaster//Event Calendar 2.0//EN
METHOD:PUBLISH
X-PUBLISHED-TTL:P3D
REFRESH-INTERVAL:P3D
CALSCALE:GREGORIAN
BEGIN:VEVENT
DTSTART:20250610T180000Z
DTEND:20250610T220000Z
X-MICROSOFT-CDO-ALLDAYEVENT:FALSE
SUMMARY:2nd Annual First Responder Lunch
DESCRIPTION:SAVE THE DATE! \n\n \n\nSERVPRO Team Kilpatrick is proud to host our 2nd Annual First Responder Lunch to show appreciation for the everyday heroes who keep our communities safe! \n\n \n\nJune 10th\, 2025\n\n11:00 AM   3:00 PM\n\n11442 N Carisa Ct\, Hayden\, ID 83835\n\n \n\nFirst responders enjoy a FREE lunch on us\, provided by the amazing folks at Cascadia Pizza Co. \n\n \n\nCan't leave the office? No problem!\n\nCall 208-457-1234 or email m_ruf@servprocda.com to schedule deliveries by 6/6/25. (For Kootenai County Departments only)\n\n \n\nFor menu options\, please visit: https://www.cascadiapizzaco.com/idaho-foodtruck-menu\n\n \n\nWe're honored to serve those who serve us. See you there!
X-ALT-DESC;FMTTYPE=text/html:&nbsp\;SAVE THE DATE!&nbsp\;<br />\n&nbsp\;<br />\nSERVPRO Team Kilpatrick is proud to host our 2nd Annual First Responder Lunch to show appreciation for the everyday heroes who keep our communities safe!&nbsp\;<br />\n&nbsp\;<br />\nJune 10th\, 2025<br />\n11:00 AM &ndash\; 3:00 PM<br />\n11442 N Carisa Ct\, Hayden\, ID 83835<br />\n&nbsp\;<br />\nFirst responders enjoy a FREE lunch on us\, provided by the amazing folks at Cascadia Pizza Co.&nbsp\;<br />\n&nbsp\;<br />\nCan&rsquo\;t leave the office? No problem!<br />\nCall 208-457-1234 or email m_ruf@servprocda.com to schedule deliveries by 6/6/25.&nbsp\;(For Kootenai County Departments only)<br />\n&nbsp\;<br />\nFor menu options\, please visit: https://www.cascadiapizzaco.com/idaho-foodtruck-menu<br />\n&nbsp\;<br />\nWe&rsquo\;re honored to serve those who serve us. See you there!
LOCATION:Servpro of Coeur d'Alene 11442 N Carisa Ct\, Hayden\, ID 83835
UID:e.843.32955
SEQUENCE:3
DTSTAMP:20260422T012130Z
URL:http://devcdachamber.chambermaster.com/events/details/2nd-annual-first-responder-lunch-32955
END:VEVENT

END:VCALENDAR
