BEGIN:VCALENDAR
VERSION:2.0
PRODID:-//ChamberMaster//Event Calendar 2.0//EN
METHOD:PUBLISH
X-PUBLISHED-TTL:P3D
REFRESH-INTERVAL:P3D
CALSCALE:GREGORIAN
BEGIN:VEVENT
DTSTART:20250801T180000Z
DTEND:20250803T230000Z
X-MICROSOFT-CDO-ALLDAYEVENT:FALSE
SUMMARY:57th Annual Art on the Green
DESCRIPTION:Join us for the 57th Annual Art on the Green\, August 1\,2 & 3th on the grounds of North Idaho College! This is the highlight of summer in Coeur d' Alene and this year we will have something for everyone to enjoy. \n\nEnjoy over 130 fine art booths from all over the country including painting\, pottery\, jewelry\, woodworking\, metal work\, photography\, glass art\, clothing\, fiber art\, leather\, handcrafted works in clay and more. Visit our Clothesline Art Sale for great deals on beautiful art as well as our Juried Art Show! FREE Entertainment will be presented all weekend long on two stages including local musicians\, dancers\, and interactive opportunities for children of all ages! Bring the kids for a variety of free Children's art activities in our Children's Art Garden as well as entertainment and special projects just for kids! Enjoy our Food Court serving festival favorites\, German sausages\, hot dogs\, salads\, corn on the cob\, ice cream\, and beverages. We will also have a variety of food trucks including the Wellness Bar and Kettle Corn. Visit our Beer & Wine Garden for a local brew or wine as you listen to our FREE entertainment on the North Stage. We invite you to join us for all of this and more as you enjoy this celebration of art\, creativity\, community and friendship at Art on the Green. For more detailed information\, please visit our website at  http://artonthegreencda.com/
X-ALT-DESC;FMTTYPE=text/html:<span style="color:black"><span style="font-family:arial\,sans-serif">Join us for the 57th Annual Art on the Green\, August 1\,2 &amp\; 3th on the grounds of North Idaho College! This is the highlight of summer in Coeur d&rsquo\; Alene and this year we will have something for everyone to enjoy.&nbsp\;</span></span><br />\n<span style="color:black"><span style="font-family:arial\,sans-serif">Enjoy over 130 fine art booths from all over the country including painting\, pottery\, jewelry\, woodworking\, metal work\, photography\, glass art\, clothing\, fiber art\, leather\, handcrafted works in clay and more. Visit our Clothesline Art Sale for great deals on beautiful art as well as our Juried Art Show! FREE Entertainment will be presented all weekend long on two stages including local musicians\, dancers\, and interactive opportunities for children of all ages! Bring the kids for a variety of free Children&rsquo\;s art activities in our Children&rsquo\;s Art Garden as well as entertainment and special projects just for kids! Enjoy our Food Court serving festival favorites\, German sausages\, hot dogs\, salads\, corn on the cob\, ice cream\, and beverages. We will also have a variety of food trucks including the Wellness Bar and Kettle Corn. Visit our Beer &amp\; Wine Garden for a local brew or wine as you listen to our FREE entertainment on the North Stage. We invite you to join us for all of this and more as you enjoy this celebration of art\, creativity\, community and friendship at Art on the Green. For more detailed information\, please visit our website at&nbsp\; </span></span><span style="font-family:times new roman\,serif"><span style="font-size:12.0pt"><a href="http://artonthegreencda.com/"><span style="color:#1155CC"><span style="font-family:arial\,sans-serif"><span style="font-size:11.0pt">http://artonthegreencda.com/</span></span></span></a></span></span>
LOCATION:Address for Festival: 495 N College Drive\, Coeur d'Alene\, Idaho 83814 EASY DIRECTIONS FROM SPOKANE: Take I-90 east Take the first Coeur d'Alene Exit\, Northwest Boulevard\, Exit 11 Turn right on Northwest Boulevard\, and drive for just less than 1.5 miles Then turn right on Hubbard Street Turn right at the roundabout and you will see parking to your right and left Then follow the crowd to the festival on the green of the campus! EASY DIRECTIONS FROM NORTH IDAHO (I-90): From I-90 Northwest Boulevard exit Turn south on Northwest Boulevard\, and drive for just less than 1.5 miles Then turn right on Hubbard Street Turn right at the roundabout and you will see parking to your right and left Then follow the crowd to the festival on the green of the campus!
UID:e.843.32137
SEQUENCE:3
DTSTAMP:20260424T065833Z
URL:http://devcdachamber.chambermaster.com/events/details/art-on-the-green-32137
END:VEVENT

END:VCALENDAR
