BEGIN:VCALENDAR
VERSION:2.0
PRODID:-//ChamberMaster//Event Calendar 2.0//EN
METHOD:PUBLISH
X-PUBLISHED-TTL:P3D
REFRESH-INTERVAL:P3D
CALSCALE:GREGORIAN
BEGIN:VEVENT
DTSTART:20250712T200000Z
DTEND:20250713T020000Z
X-MICROSOFT-CDO-ALLDAYEVENT:FALSE
SUMMARY:Brewfest
DESCRIPTION:Downtown Coeur d'Alene's 8th Annual Brewfest\, will quench your thirst with fine craft brews this summer! The festival will be held in McEuen Park on July 12 from 1 PM   7 PM. The event will feature a wide variety of beer and ciders\, a great selection of food\, yard games\, and live music in the best venue in town!
X-ALT-DESC;FMTTYPE=text/html:<span style="color:rgb(20\, 24\, 39)\; font-family:helvetica neue\,helvetica\,-apple-system\,blinkmacsystemfont\,roboto\,arial\,sans-serif\; font-size:18px">Downtown Coeur d&rsquo\;Alene&rsquo\;s 8th Annual Brewfest\, will quench your thirst with fine craft brews this summer! The festival will be held in McEuen Park on July 12 from 1 PM &ndash\; 7 PM. The event will feature a wide variety of beer and ciders\, a great selection of food\, yard games\, and live music in the best venue in town!</span>
LOCATION:McEuen Park\, Coeur d'Alene
UID:e.843.32235
SEQUENCE:3
DTSTAMP:20260424T055846Z
URL:http://devcdachamber.chambermaster.com/events/details/brewfest-07-12-2025-32235
END:VEVENT

END:VCALENDAR
