BEGIN:VCALENDAR
VERSION:2.0
PRODID:-//ChamberMaster//Event Calendar 2.0//EN
METHOD:PUBLISH
X-PUBLISHED-TTL:P3D
REFRESH-INTERVAL:P3D
CALSCALE:GREGORIAN
BEGIN:VEVENT
DTSTART:20250101T060000Z
DTEND:20250101T090000Z
X-MICROSOFT-CDO-ALLDAYEVENT:FALSE
SUMMARY:Bruiser
DESCRIPTION:Coeur d'Alene Casino Event Center \n\nTuesday\, December 31st | 10 PM   1 AM\n\nBruiser is an iconic band that brings top notch Rock and Pop Dance music and performers to dance floors in the Spokane and North Idaho.\n\nAges 18 and up.
X-ALT-DESC;FMTTYPE=text/html:<div>\n<div>\n<p><strong>Coeur d&rsquo\;Alene Casino Event Center </strong></p>\n\n<p><strong>Tuesday\, December 31st | 10 PM &ndash\; 1 AM</strong></p>\n\n<p>Bruiser is an iconic band that brings top notch Rock and Pop Dance music and performers to dance floors in the Spokane and North Idaho.</p>\n\n<p><em>Ages 18 and up.</em></p>\n</div>\n</div>\n
LOCATION:Coeur d'Alene Casino Resort Hotel 37914 S Nukwalqw Rd Worley\, ID 83876 United States + Google Map
UID:e.843.32073
SEQUENCE:3
DTSTAMP:20260423T155854Z
URL:http://devcdachamber.chambermaster.com/events/details/bruiser-12-31-2024-32073
END:VEVENT

END:VCALENDAR
