BEGIN:VCALENDAR
VERSION:2.0
PRODID:-//ChamberMaster//Event Calendar 2.0//EN
METHOD:PUBLISH
X-PUBLISHED-TTL:P3D
REFRESH-INTERVAL:P3D
CALSCALE:GREGORIAN
BEGIN:VEVENT
DTSTART:20250123T233000Z
DTEND:20250124T013000Z
X-MICROSOFT-CDO-ALLDAYEVENT:FALSE
SUMMARY:Business Bootcamp 2024
DESCRIPTION:Discover how to reduce your pain points and grow a valuable business in the process!\n\n \n\nImagine if \n\n\n	You had more than enough cash flow\n	Your business culture created and environment that supports your business\n	Your revenue and profit grew with no additional hours by you\n	You had offers to buy your business that exceed your expectations\n\n\n \n\nWelcome to the Business Bootcamp 2025!\n\nBrought to you by Ken Bohenek and Andrew Thornock of Murphy Business Sales\, Trina Julian of Trina Julian LLC\, Scott McGann of BBSI\, and Jeff Conroy of Conroy Leadership and Consulting!\n\nIf you struggle with tasks that interfere with daily operation\, or with recruitment/retention of employees\, or  question the value of your business and what a sale means for retirement\, then you'll want to attend. This seminar is designed to give you information and insights into the process of growing a valuable business that will give you a retirement of abundance.\n\nMany people wait too long to take steps to add necessary value needed to sell the business successfully. We want to ensure that doesn't happen to you!\n\n \n\nWho this Business Bootcamp is for\n\n\n	You're a small business owner with at least 2 employees\n	You want to grow your business and have a successful exit strategy for the future\n	You're committed to growing your skill set for long term success\n	You struggle with employee related issues and want to be a better leader\n\n\n \n\nSeats are limited and filling up fast\, so sign up now to secure your spot!\n\nStill have questions or concerns? Contact us directly at trina@trinajulian.com and we'll be happy to address them. We can't wait to see you at the Bootcamp!
X-ALT-DESC;FMTTYPE=text/html:<div>\n<div>\n<div>\n<div>\n<div>\n<h1><strong>Discover how to reduce your pain points and grow a valuable business in the process!</strong></h1>\n\n<p>&nbsp\;</p>\n\n<h2><strong>Imagine if&hellip\;</strong></h2>\n\n<ul>\n	<li>You had more than enough cash flow</li>\n	<li>Your business culture created and environment that supports your business</li>\n	<li>Your revenue and profit grew with no additional hours by you</li>\n	<li>You had offers to buy your business that exceed your expectations</li>\n</ul>\n\n<p>&nbsp\;</p>\n\n<h2>Welcome to the Business Bootcamp 2025!</h2>\n\n<p>Brought to you by Ken Bohenek and Andrew Thornock of Murphy Business Sales\, Trina Julian of Trina Julian LLC\, Scott McGann of BBSI\, and Jeff Conroy of Conroy Leadership and Consulting!</p>\n\n<p>If you struggle with tasks that interfere with daily operation\, or with recruitment/retention of employees\, or&nbsp\; question the value of your business and what a sale means for retirement\, then you&#39\;ll want to attend. This seminar is designed to give you information and insights into the process of growing a valuable business that will give you a retirement of abundance.</p>\n\n<p>Many people wait too long to take steps to add necessary value needed to sell the business successfully. We want to ensure that doesn&#39\;t happen to you!</p>\n\n<p>&nbsp\;</p>\n\n<h2>Who this Business Bootcamp is for</h2>\n\n<ul>\n	<li>You&rsquo\;re a small business owner with at least 2 employees</li>\n	<li>You want to grow your business and have a successful exit strategy for the future</li>\n	<li>You&rsquo\;re committed to growing your skill set for long term success</li>\n	<li>You struggle with employee related issues and want to be a better leader</li>\n</ul>\n\n<p>&nbsp\;</p>\n\n<p>Seats are limited and filling up fast\, so sign up now to secure your spot!</p>\n\n<p>Still have questions or concerns? Contact us directly at trina@trinajulian.com and we&#39\;ll be happy to address them. We can&#39\;t wait to see you at the Bootcamp!</p>\n</div>\n</div>\n</div>\n</div>\n</div>\n
LOCATION:Templin's Red Lion Post Falls ID 83854
UID:e.843.31866
SEQUENCE:3
DTSTAMP:20260423T183208Z
URL:http://devcdachamber.chambermaster.com/events/details/business-boot-camp-2024-31866
END:VEVENT

END:VCALENDAR
