BEGIN:VCALENDAR
VERSION:2.0
PRODID:-//ChamberMaster//Event Calendar 2.0//EN
METHOD:PUBLISH
X-PUBLISHED-TTL:P3D
REFRESH-INTERVAL:P3D
CALSCALE:GREGORIAN
BEGIN:VEVENT
DTSTART:20251122T230000Z
DTEND:20251123T013000Z
X-MICROSOFT-CDO-ALLDAYEVENT:FALSE
SUMMARY:CDA Symphony Musical Potpourri
DESCRIPTION:The Coeur d'Alene Symphony Orchestra invites music lovers to a delightful afternoon of diverse musical selections at Musical Potpourri\, taking place Saturday\, November 22\, 2025\, at 3:00 PM at the Schuler Performing Arts Center\, North Idaho College\, Coeur d'Alene.\n\nThis special concert features the orchestra alongside talented artists from the Coeur d'Alene Summer Theatre and highlights pianist Matt Goodrich performing Camille Saint-Sa ns's monumental Piano Concerto No. 5 "The Egyptian". Audiences will also enjoy the energetic Danse Bacchanale from Saint-Sa ns's opera Samson and Delilah\, along with a variety of seasonal favorites\, including the beloved "Autumn Leaves".
X-ALT-DESC;FMTTYPE=text/html:<p>The Coeur d&rsquo\;Alene Symphony Orchestra invites music lovers to a delightful afternoon of diverse musical selections at Musical Potpourri\, taking place Saturday\, November 22\, 2025\, at 3:00 PM at the Schuler Performing Arts Center\, North Idaho College\, Coeur d&rsquo\;Alene.</p>\n\n<p>This special concert features the orchestra alongside talented artists from the Coeur d&rsquo\;Alene Summer Theatre and highlights pianist Matt Goodrich performing Camille Saint-Sa&euml\;ns&rsquo\;s monumental Piano Concerto No. 5 &ldquo\;The Egyptian&rdquo\;. Audiences will also enjoy the energetic Danse Bacchanale from Saint-Sa&euml\;ns&rsquo\;s opera Samson and Delilah\, along with a variety of seasonal favorites\, including the beloved &ldquo\;Autumn Leaves&rdquo\;.</p>\n
LOCATION:Schuler Performing Arts Center North Idaho College\, Coeur d'Alene 880 W Garden Ave\, Coeur d'Alene\, ID 83814
UID:e.843.33274
SEQUENCE:3
DTSTAMP:20260420T165240Z
URL:http://devcdachamber.chambermaster.com/events/details/cda-symphony-musical-potpourri-33274
END:VEVENT

END:VCALENDAR
