BEGIN:VCALENDAR
VERSION:2.0
PRODID:-//ChamberMaster//Event Calendar 2.0//EN
METHOD:PUBLISH
X-PUBLISHED-TTL:P3D
REFRESH-INTERVAL:P3D
CALSCALE:GREGORIAN
BEGIN:VEVENT
DTSTART:20250327T230000Z
DTEND:20250328T050000Z
X-MICROSOFT-CDO-ALLDAYEVENT:FALSE
SUMMARY:Couples Date Night – Simulator Room
DESCRIPTION:Couples Date Night | Golf Simulator Room\n\nThursday\, March 27th | 4 pm   10 pm\n\nJoin us in our Simulator Suites for a fun 2-person scramble with KP Challenge | Men's and Women's bracket\n\nTee time slots\n\n\n	4 pm | 3 couples\n	6 pm | 3 couples\n	8 pm | 3 couples\n\n\nAt just $199 per couple\, enjoy simulator play\, food\, non-alcoholic drinks\, and prizes.\n\nMust be 18 years or older to play.\n\nLimited room available so reserve your spot today!
X-ALT-DESC;FMTTYPE=text/html:<div>\n<div>\n<div>\n<p><strong>Couples Date Night | Golf Simulator Room</strong></p>\n\n<p><strong>Thursday\, March 27th | 4 pm &ndash\; 10 pm</strong></p>\n\n<p>Join us in our Simulator Suites for a fun 2-person scramble with KP Challenge | Men&rsquo\;s and Women&rsquo\;s bracket</p>\n\n<p>Tee time slots</p>\n\n<ul>\n	<li>4 pm | 3 couples</li>\n	<li>6 pm | 3 couples</li>\n	<li>8 pm | 3 couples</li>\n</ul>\n\n<p>At just $199 per couple\, enjoy simulator play\, food\, non-alcoholic drinks\, and prizes.</p>\n\n<p>Must be 18 years or older to play.</p>\n\n<p>Limited room available so reserve your spot today!</p>\n</div>\n</div>\n</div>\n
LOCATION:Coeur d'Alene Casino Resort Hotel 37914 S Nukwalqw Rd Worley\, ID 83876 United States + Google Map
UID:e.843.32194
SEQUENCE:3
DTSTAMP:20260423T052324Z
URL:http://devcdachamber.chambermaster.com/events/details/couples-date-night-simulator-room-32194
END:VEVENT

END:VCALENDAR
