BEGIN:VCALENDAR
VERSION:2.0
PRODID:-//ChamberMaster//Event Calendar 2.0//EN
METHOD:PUBLISH
X-PUBLISHED-TTL:P3D
REFRESH-INTERVAL:P3D
CALSCALE:GREGORIAN
BEGIN:VEVENT
DTSTART:20250615T170000Z
DTEND:20250616T050000Z
X-MICROSOFT-CDO-ALLDAYEVENT:FALSE
SUMMARY:Father's Day Special
DESCRIPTION:Treat dad to a day of fun at Triple Play Family Fun Park!\n\nIf your child purchases any pass\, dad will receive an equal pass for free!
X-ALT-DESC;FMTTYPE=text/html:Treat dad to a day of fun at Triple Play Family Fun Park!<br />\nIf your child purchases any pass\, dad will receive an equal pass for free!
LOCATION:Triple Play Family Fun Park
UID:e.843.32936
SEQUENCE:3
DTSTAMP:20260422T035602Z
URL:http://devcdachamber.chambermaster.com/events/details/father-s-day-special-32936
END:VEVENT

END:VCALENDAR
