BEGIN:VCALENDAR
VERSION:2.0
PRODID:-//ChamberMaster//Event Calendar 2.0//EN
METHOD:PUBLISH
X-PUBLISHED-TTL:P3D
REFRESH-INTERVAL:P3D
CALSCALE:GREGORIAN
BEGIN:VEVENT
DTSTART:20250815T020000Z
DTEND:20250815T050000Z
X-MICROSOFT-CDO-ALLDAYEVENT:FALSE
SUMMARY:Gabby Barrett
DESCRIPTION:Warner Music Nashville's multi-platinum star Gabby Barrett continues to prove herself to be an unstoppable force in country music. Barrett's debut single "I Hope" ruled the Billboard Hot Country Songs chart for a record-breaking 27 weeks\, making her the youngest artist with a #1 debut on country radio in over two decades. She is known for her hits like "Pick Me Up\," "The Good Ones\," and her new album\, Chapter & Verse\, featuring her current single penned by Luke Combs\, "Dance Like No One's Watching."\n\nAll ages welcome to attend concerts.
X-ALT-DESC;FMTTYPE=text/html:<p>Warner Music Nashville&rsquo\;s multi-platinum star Gabby Barrett continues to prove herself to be an unstoppable force in country music. Barrett&rsquo\;s debut single &ldquo\;I Hope&rdquo\; ruled the Billboard Hot Country Songs chart for a record-breaking 27 weeks\, making her the youngest artist with a #1 debut on country radio in over two decades. She is known for her hits like &ldquo\;Pick Me Up\,&rdquo\; &ldquo\;The Good Ones\,&rdquo\; and her new album\, Chapter &amp\; Verse\, featuring her current single penned by Luke Combs\, &ldquo\;Dance Like No One&rsquo\;s Watching.&rdquo\;</p>\n\n<p>All ages welcome to attend concerts.</p>\n
LOCATION:Coeur d'Alene Casino Resort Hotel 37914 S Nukwalqw Rd Worley\, ID 83876 United States + Google Map
UID:e.843.32213
SEQUENCE:3
DTSTAMP:20260422T012132Z
URL:http://devcdachamber.chambermaster.com/events/details/gabby-barrett-32213
END:VEVENT

END:VCALENDAR
