BEGIN:VCALENDAR
VERSION:2.0
PRODID:-//ChamberMaster//Event Calendar 2.0//EN
METHOD:PUBLISH
X-PUBLISHED-TTL:P3D
REFRESH-INTERVAL:P3D
CALSCALE:GREGORIAN
BEGIN:VEVENT
DTSTART:20250926T000000Z
DTEND:20250926T040000Z
X-MICROSOFT-CDO-ALLDAYEVENT:FALSE
SUMMARY:Gems and Jeans--Fundraiser for Specialized Needs Recreation
DESCRIPTION:Gems and Jeans is an evening celebrating SNR participants and our programs while raising funds to continue providing recreation and social activities for people with disabilities and special needs\, ages 8 and up in North Idaho. The event includes live and silent auction\, raffles\, dinner\, and entertainment\, for our community to partner with us to build independence and joyful lives\, creating a connected community for all.\n\n\n\nSpecialized Needs Recreation (SNR) is a non-profit organization in Coeur d'Alene\, Idaho\, that provides recreational opportunities for people with disabilities and special needs. SNR aims to create engaging and inclusive environments for individuals of all abilities\, focusing on social interaction\, personal growth\, and community connection. The organization offers various programs\, including weekday Life Group\, Wednesday Evening Group\, seasonal Camp All Stars\, and special events.  Specialized Needs Recreation (SNR) programs have been helping participants develop social skills\, build self-esteem\, and create lasting friendships since 1984\, and also strives to increase community awareness and acceptance of individuals with disabilities.
X-ALT-DESC;FMTTYPE=text/html:<span style="color:rgb(59\, 67\, 92)\; font-family:arial\,helvetica\; font-size:medium">Gems and Jeans is an evening celebrating SNR participants and our programs while raising funds to continue providing recreation and social activities for people with disabilities and special needs\, ages 8 and up in North Idaho. The event includes live and silent auction\, raffles\, dinner\, and entertainment\, for our community to partner with us to build independence and joyful lives\, creating a connected community for all.<br />\n<br />\nSpecialized Needs Recreation (SNR) is a non-profit organization in Coeur d&#39\;Alene\, Idaho\, that provides recreational opportunities for people with disabilities and special needs.&nbsp\;</span><span style="color:rgb(0\, 29\, 53)\; font-family:arial\,helvetica\; font-size:medium"><span style="font-family:google sans\,roboto\,arial\,sans-serif"><span style="color:rgb(59\, 67\, 92)">SNR aims to create engaging and inclusive environments for individuals of all abilities\, focusing on social interaction\, personal growth\, and community connection.</span><span style="color:rgb(59\, 67\, 92)">&nbsp\;</span><span style="color:rgb(59\, 67\, 92)">The organization offers various programs\, including weekday Life Group\, Wednesday Evening Group\, seasonal Camp All Stars\, and special events.&nbsp\;&nbsp\;</span></span></span><span style="color:rgb(59\, 67\, 92)\; font-family:arial\,helvetica\; font-size:medium">Specialized Needs Recreation (SNR)</span><span style="color:rgb(84\, 93\, 126)\; font-family:arial\,helvetica\; font-size:medium"><span style="font-family:google sans\,roboto\,arial\,sans-serif"><span style="color:rgb(59\, 67\, 92)">&nbsp\;programs have been helping participants develop social skills\, build self-esteem\, and create lasting friendships since 1984\, and also strives to increase community awareness and acceptance of individuals with disabilities.</span></span></span>
LOCATION:Best Western Plus Coeur d'Alene Inn 506 W. Appleway Ave Coeur d'Alene\, ID 83814
UID:e.843.32998
SEQUENCE:3
DTSTAMP:20260422T064914Z
URL:http://devcdachamber.chambermaster.com/events/details/gems-and-jeans-fundraiser-for-specialized-needs-recreation-32998
END:VEVENT

END:VCALENDAR
