BEGIN:VCALENDAR
VERSION:2.0
PRODID:-//ChamberMaster//Event Calendar 2.0//EN
METHOD:PUBLISH
X-PUBLISHED-TTL:P3D
REFRESH-INTERVAL:P3D
CALSCALE:GREGORIAN
BEGIN:VEVENT
DTSTART:20250405T180000Z
DTEND:20250428T000000Z
X-MICROSOFT-CDO-ALLDAYEVENT:FALSE
SUMMARY:"Introspective" Art Exhibition
DESCRIPTION:The Art Spirit Gallery is pleased to announce its upcoming exhibition\, "Introspective\," showcasing the works of four talented artists: Michael Haykin\, Hanna Kuhns\, Andrew Parker\, and Nick DeVries. The exhibition runs from April 5th to 27th\, 2025\, with gallery hours Wednesday-Saturday\, 11 am   6 pm\, and Sunday\, 11 am   5 pm. An opening reception and artist panel talk will be held on Saturday\, April 5th\, from 11 am to 6 pm.\n\n\n\n"Introspective" explores a diverse range of artistic styles and approaches\, reflecting each artist's unique creative process and vision. From Nick DeVries's evocative ceramic works that explore the interplay between human interaction and nature to Andrew Parker's mixed-media pieces examining the balance between order and chaos\, the exhibition offers a compelling journey into the depths of artistic expression. Michael Haykin's realist paintings capture atmospheric landscapes and figures\, while Hanna Kuhns's abstract works convey movement and energy.
X-ALT-DESC;FMTTYPE=text/html:<span style="font-family:century gothic\,sans-serif"><span style="font-size:11.0pt">The Art Spirit Gallery is pleased to announce its upcoming exhibition\, &ldquo\;Introspective\,&rdquo\; showcasing the works of four talented artists: Michael Haykin\, Hanna Kuhns\, Andrew Parker\, and Nick DeVries. The exhibition runs from April 5th to 27th\, 2025\, with gallery hours Wednesday-Saturday\, 11 am &ndash\; 6 pm\, and Sunday\, 11 am &ndash\; 5 pm. An opening reception and artist panel talk will be held on Saturday\, April 5th\, from 11 am to 6 pm.</span></span><br />\n<br />\n<span style="font-family:century gothic\,sans-serif"><span style="font-size:11.0pt">&ldquo\;Introspective&rdquo\; explores a diverse range of artistic styles and approaches\, reflecting each artist&#39\;s unique creative process and vision. From Nick DeVries&#39\;s evocative ceramic works that explore the interplay between human interaction and nature to Andrew Parker&#39\;s mixed-media pieces examining the balance between order and chaos\, the exhibition offers a compelling journey into the depths of artistic expression. Michael Haykin&#39\;s realist paintings capture atmospheric landscapes and figures\, while Hanna Kuhns&#39\;s abstract works convey movement and energy.</span></span>
LOCATION:The Art Spirit Gallery 415 Sherman Avenue\, Coeur d' Alene\, Idaho\, 83814
UID:e.843.32200
SEQUENCE:3
DTSTAMP:20260422T153321Z
URL:http://devcdachamber.chambermaster.com/events/details/introspective-art-exhibition-32200
END:VEVENT

END:VCALENDAR
