BEGIN:VCALENDAR
VERSION:2.0
PRODID:-//ChamberMaster//Event Calendar 2.0//EN
METHOD:PUBLISH
X-PUBLISHED-TTL:P3D
REFRESH-INTERVAL:P3D
CALSCALE:GREGORIAN
BEGIN:VEVENT
DTSTART:20250118T200000Z
DTEND:20250119T020000Z
X-MICROSOFT-CDO-ALLDAYEVENT:FALSE
SUMMARY:Mac & Cheese Festival
DESCRIPTION:Join us for the Annual Mac & Cheese Festival on January 18\, 2025!  The Mac & Cheese Festival celebrates your favorite childhood dish by featuring variations carefully prepared by local chefs who will be competing for the Golden Noodle Award! Attendees will enjoy a comfort-food-filled day tasting different cheesy dishes with perfect craft beer pairings and get to vote for their favorite dish to help award the People's Choice Trophy! BRIE-lief us\, tickets will sell out   get yours now just in QUESO!
X-ALT-DESC;FMTTYPE=text/html:<span style="color:rgb(20\, 24\, 39)\; font-family:helvetica neue\,helvetica\,-apple-system\,blinkmacsystemfont\,roboto\,arial\,sans-serif\; font-size:18px">Join us for the Annual Mac &amp\; Cheese Festival on January 18\, 2025!&nbsp\;&nbsp\;</span><span style="color:rgb(20\, 24\, 39)\; font-family:helvetica neue\,helvetica\,-apple-system\,blinkmacsystemfont\,roboto\,arial\,sans-serif\; font-size:18px">The Mac &amp\; Cheese Festival celebrates your favorite childhood dish by featuring variations carefully prepared by local chefs who will be competing for the Golden Noodle Award! Attendees will enjoy a comfort-food-filled day tasting different cheesy dishes with perfect craft beer pairings and get to vote for their favorite dish to help award the People&rsquo\;s Choice Trophy! BRIE-lief us\, tickets will sell out &ndash\; get yours now just in QUESO!</span>
LOCATION:Downtown Coeur d'Alene
UID:e.843.32023
SEQUENCE:3
DTSTAMP:20260423T212412Z
URL:http://devcdachamber.chambermaster.com/events/details/mac-cheese-festival-32023
END:VEVENT

END:VCALENDAR
