BEGIN:VCALENDAR
VERSION:2.0
PRODID:-//ChamberMaster//Event Calendar 2.0//EN
METHOD:PUBLISH
X-PUBLISHED-TTL:P3D
REFRESH-INTERVAL:P3D
CALSCALE:GREGORIAN
BEGIN:VEVENT
DTSTART:20250422T200000Z
DTEND:20250422T213000Z
X-MICROSOFT-CDO-ALLDAYEVENT:FALSE
SUMMARY:Powerful Tools for Caregivers Class
DESCRIPTION:A free 6-week workshop designed to help family caregivers\, providing them with tools to care well for themselves.
X-ALT-DESC;FMTTYPE=text/html:A free 6-week workshop designed to help family caregivers\, providing them with tools to care well for themselves.
LOCATION:Panhandle Health District 8500 N. Atlas Rd. Hayden Idaho
UID:e.843.32188
SEQUENCE:3
DTSTAMP:20260423T233752Z
URL:http://devcdachamber.chambermaster.com/events/details/powerful-tools-for-caregivers-class-04-22-2025-32188
END:VEVENT

END:VCALENDAR
