BEGIN:VCALENDAR
VERSION:2.0
PRODID:-//ChamberMaster//Event Calendar 2.0//EN
METHOD:PUBLISH
X-PUBLISHED-TTL:P3D
REFRESH-INTERVAL:P3D
CALSCALE:GREGORIAN
BEGIN:VEVENT
DTSTART:20251121T010000Z
DTEND:20251121T020000Z
X-MICROSOFT-CDO-ALLDAYEVENT:FALSE
SUMMARY:Smart Money
DESCRIPTION:Taught by an experienced instructor\, this class explores important financial topics such as saving\, borrowing\, investing\, and insuring. Designed to develop valuable money management skills and responsible financial habits\, it provides adults with the tools they need to make informed decision and build a strong financial foundation for the years ahead.
X-ALT-DESC;FMTTYPE=text/html:Taught by an experienced instructor\, this class explores important financial topics such as saving\, borrowing\, investing\, and insuring. Designed to develop valuable money management skills and responsible financial habits\, it provides adults with the tools they need to make informed decision and build a strong financial foundation for the years ahead.
LOCATION:Coeur d' Alene Public Library 702 E Front Ave. Coeur d' Alene\, ID 83814 Gozzer Room
UID:e.843.33276
SEQUENCE:3
DTSTAMP:20260425T021521Z
URL:http://devcdachamber.chambermaster.com/events/details/smart-money-11-20-2025-33276
END:VEVENT

END:VCALENDAR
