BEGIN:VCALENDAR
VERSION:2.0
PRODID:-//ChamberMaster//Event Calendar 2.0//EN
METHOD:PUBLISH
X-PUBLISHED-TTL:P3D
REFRESH-INTERVAL:P3D
CALSCALE:GREGORIAN
BEGIN:VEVENT
DTSTART:20250618T180000Z
DTEND:20250618T190000Z
X-MICROSOFT-CDO-ALLDAYEVENT:FALSE
SUMMARY:WEBINAR | Strengthening Cybersecurity: Ransomware Defense
DESCRIPTION:Join us for our upcoming webinar\, Strengthening Cybersecurity: Ransomware Defense\, where we'll discuss key cybersecurity topics and trends. Our goal is to help clients tackle cyber threats and navigate risk transfer solutions. During this informative webinar\, you'll gain insights into: \n\n- The latest trends and best practices for handling ransomware  \n\n- How our Cyber Resiliency Network can help your organization \n\n- Practical recommendations that you can put into action right away
X-ALT-DESC;FMTTYPE=text/html:<span style="color:rgb(29\, 42\, 66)\; font-family:-apple-system\,sf pro text\,blinkmacsystemfont\,segoe ui\,helvetica\,arial\,sans-serif\; font-size:14px">Join us for our upcoming webinar\, </span><strong>Strengthening Cybersecurity: Ransomware Defense</strong><span style="color:rgb(29\, 42\, 66)\; font-family:-apple-system\,sf pro text\,blinkmacsystemfont\,segoe ui\,helvetica\,arial\,sans-serif\; font-size:14px">\, where we&rsquo\;ll discuss key cybersecurity topics and trends. Our goal is to help clients tackle cyber threats and navigate risk transfer solutions.&nbsp\;During this informative webinar\, you&rsquo\;ll gain insights into:&nbsp\;</span><br />\n<span style="color:rgb(29\, 42\, 66)\; font-family:-apple-system\,sf pro text\,blinkmacsystemfont\,segoe ui\,helvetica\,arial\,sans-serif\; font-size:14px">- The latest trends and best practices for handling ransomware&nbsp\;&nbsp\;</span><br />\n<span style="color:rgb(29\, 42\, 66)\; font-family:-apple-system\,sf pro text\,blinkmacsystemfont\,segoe ui\,helvetica\,arial\,sans-serif\; font-size:14px">- How our Cyber Resiliency Network can help your organization&nbsp\;</span><br />\n<span style="color:rgb(29\, 42\, 66)\; font-family:-apple-system\,sf pro text\,blinkmacsystemfont\,segoe ui\,helvetica\,arial\,sans-serif\; font-size:14px">- Practical recommendations that you can put into action right away</span>
LOCATION:https://mma.marshmma.com/l/644133/2025-06-05/2tcghj
UID:e.843.32957
SEQUENCE:3
DTSTAMP:20260422T000236Z
URL:http://devcdachamber.chambermaster.com/events/details/webinar-strengthening-cybersecurity-ransomware-defense-32957
END:VEVENT

END:VCALENDAR
